BEGIN:VCALENDAR
VERSION:2.0
PRODID:-//Mairie de Gommegnies//NONSGML kigkonsult.se iCalcreator 2.41.92//
CALSCALE:GREGORIAN
METHOD:PUBLISH
UID:32663464-3931-4665-b738-343539636636
X-WR-CALNAME:iCagenda
X-WR-CALDESC:Event Management Extension for Joomla!
X-WR-RELCALID:3E26604A-50F4-4449-8B3E-E4F4932D05B5
X-WR-TIMEZONE:UTC
BEGIN:VTIMEZONE
TZID:UTC
END:VTIMEZONE
BEGIN:VEVENT
UID:64333730-3430-4031-b935-346531326564
DTSTAMP:20260422T085105Z
CATEGORIES:Loisirs
CLASS:PUBLIC
DESCRIPTION;ALTREP="CID:<FFFF__=0ABBE548DFE235B58f9e8a93d@coffeebean.com>":
 Dans une volonté de proposer une activité nouvelle aux habitants de plus d
 e 60 ans (et à leurs conjoints) de la commune et permettant de favoriser l
 es rencontres via une sortie conviviale\, le CCAS vous donne rendez-vous l
 e dimanche 07 septembre 2025. \nVenez profiter d’une sortie alliant cultur
 e\, détente et gastronomie\, au coeur de la capitale historique de la Pica
 rdie :\n\nDépart à 7h00 depuis la place du Général de Gaulle à Gommegnies
 \nVisite guidée de la ville d’Amiens\nDéjeuner au restaurant O Jardin\nVis
 ite en barque des Hortillonnages\nVisite guidée de la cathédrale d’Amiens
 \nRetour prévu vers 20h\n\nCette journée\, incluant le transport en autoca
 r\, les visites et le repas\, est proposée avec une participation financiè
 re de 30 € par personne.\nLes inscriptions se font en mairie en remplissan
 t le coupon-réponse disponible ci-dessous ou en envoyant un mail à l’adres
 se suivante :📧 service.communication@gommegnies.fr\nNe manquez pas cette b
 elle occasion de découvrir Amiens dans une ambiance chaleureuse et détendu
 e !
DTSTART:20250907T102700Z
DTEND:20250907T102700Z
GEO:00;0
LOCATION:
ORGANIZER;CN=:mailto:service.communication@gommegnies.fr
SEQUENCE:1
SUMMARY:Voyage à Amiens
TRANSP:OPAQUE
URL:https://gommegnies.fr/index.php/actualites/l-agenda-gommegnion/37-voyag
 e-a-amiens/2025-09-07-10-27
END:VEVENT
END:VCALENDAR
