BEGIN:VCALENDAR
VERSION:2.0
PRODID:-//Mairie de Gommegnies//NONSGML kigkonsult.se iCalcreator 2.41.92//
CALSCALE:GREGORIAN
METHOD:PUBLISH
UID:36653665-6234-4562-b334-393237383533
X-WR-CALNAME:iCagenda
X-WR-CALDESC:Event Management Extension for Joomla!
X-WR-RELCALID:3E26604A-50F4-4449-8B3E-E4F4932D05B5
X-WR-TIMEZONE:UTC
BEGIN:VTIMEZONE
TZID:UTC
END:VTIMEZONE
BEGIN:VEVENT
UID:61393361-6664-4735-b262-633831643663
DTSTAMP:20260424T154003Z
CATEGORIES:Loisirs
CLASS:PUBLIC
DESCRIPTION;ALTREP="CID:<FFFF__=0ABBE548DFE235B58f9e8a93d@coffeebean.com>":
 Fin avril\, les manèges réinvestiront la place du Général de Gaulle pour l
 a traditionnelle ducasse de Printemps\, du vendredi 24 au 27 avril\, auto-
 tamponneuse\, tir à la carabine et pêche aux canards ouvriront leurs porte
 s pour le plus grand bonheur de nos enfants. \n24 Avril: dès 19h30 la Patû
 re by CQFD et BTA avec un concert de Trouble Stuff\n25 Avril: Démonstratio
 n de Cornhole par l’association Li-Cornhole - 16H\n26 Avril: Concert de l’
 Harmonie La Licorne - 16H
DTSTART:20260424T203500Z
DTEND:20260427T203500Z
GEO:+50.271206;+3.706202
LOCATION:
ORGANIZER:
SEQUENCE:1
SUMMARY:Ducasse de Printemps
TRANSP:OPAQUE
URL:https://gommegnies.fr/index.php/actualites/l-agenda-gommegnion/69-ducas
 se-de-carnoy-2
END:VEVENT
END:VCALENDAR
